BEGIN:VCALENDAR
VERSION:2.0
PRODID:-//wp-events-plugin.com//7.1.7//EN
TZID:Europe/Paris
X-WR-TIMEZONE:Europe/Paris
BEGIN:VEVENT
UID:0-1300@ville-chatillon.fr
DTSTART;TZID=Europe/Paris;VALUE=DATE:20241204
DTEND;TZID=Europe/Paris;VALUE=DATE:20241208
DTSTAMP:20241205T134158Z
URL:https://www.ville-chatillon.fr/evenements/journees-des-bonnes-affaires
 -de-lagf/
SUMMARY:Journées des bonnes affaires de l'AGF
DESCRIPTION:Du 4 au 7 décembre\, les Journées des bonnes affaires de l'AG
 F sont de retour ! Rendez-vous au Centre Guynemer aux horaires indiqués s
 ur le flyer ci-dessous.
ATTACH;FMTTYPE=image/jpeg:https://www.ville-chatillon.fr/app/uploads/2023/
 04/guynemer-scaled.jpg
CATEGORIES:Associations
LOCATION:Centre Guynemer - 2 rue Guynemer\, France
X-APPLE-STRUCTURED-LOCATION;VALUE=URI;X-ADDRESS=Centre Guynemer - 2 rue Guy
 nemer\, France;X-APPLE-RADIUS=100;X-TITLE=:geo:0,0
END:VEVENT
BEGIN:VTIMEZONE
TZID:Europe/Paris
X-LIC-LOCATION:Europe/Paris
BEGIN:STANDARD
DTSTART:20241027T020000
TZOFFSETFROM:+0200
TZOFFSETTO:+0100
TZNAME:CET
END:STANDARD
END:VTIMEZONE
END:VCALENDAR