BEGIN:VCALENDAR
VERSION:2.0
PRODID:-//wp-events-plugin.com//7.1.7//EN
TZID:Europe/Paris
X-WR-TIMEZONE:Europe/Paris
BEGIN:VEVENT
UID:0-1208@ville-chatillon.fr
DTSTART;TZID=Europe/Paris:20241031T163000
DTEND;TZID=Europe/Paris:20241031T183000
DTSTAMP:20241030T171514Z
URL:https://www.ville-chatillon.fr/evenements/halloween-a-chatillon-2/
SUMMARY:Halloween à Châtillon
DESCRIPTION:Cette année encore\, la Ville invite les petits monstres chât
 illonnais déguisés à venir chercher des bonbons le jeudi 31 octobre de 
 16h30 à 18h30.\nHôtel de Ville (1 place de la Libération)\nMaison des S
 eniors (21 rue Gabriel) \nMaison des Enfants (34 rue Guy Môquet) \nCentre
  Administratif (79 rue Pierre Semard)\nEspace Maison Blanche (2 avenue de 
 Saint-Exupéry)\nA l’Hôtel de Ville\, un parcours hanté attend les pet
 its châtillonnais pour s’amuser à se faire peur. 
ATTACH;FMTTYPE=image/jpeg:https://www.ville-chatillon.fr/app/uploads/2024/
 10/actualite-8.jpg
CATEGORIES:Évènement
END:VEVENT
BEGIN:VTIMEZONE
TZID:Europe/Paris
X-LIC-LOCATION:Europe/Paris
BEGIN:STANDARD
DTSTART:20241027T020000
TZOFFSETFROM:+0200
TZOFFSETTO:+0100
TZNAME:CET
END:STANDARD
END:VTIMEZONE
END:VCALENDAR