BEGIN:VCALENDAR
VERSION:2.0
PRODID:-//wp-events-plugin.com//7.1.7//EN
TZID:Europe/Paris
X-WR-TIMEZONE:Europe/Paris
BEGIN:VEVENT
UID:0-1262@ville-chatillon.fr
DTSTART;TZID=Europe/Paris:20241207T140000
DTEND;TZID=Europe/Paris:20241207T180000
DTSTAMP:20241205T085640Z
URL:https://www.ville-chatillon.fr/evenements/fabrique-de-noel-2/
SUMMARY:Fabrique de Noël
DESCRIPTION:Venez créer vos cadeaux de Noël en famille dans nos ateliers\
 , grâce au savoir-faire des professeurs de la Maison des enfants et de l
 ’artiste Aline Zalko\, de la Maison des arts. Profitez d’un concert gr
 atuit à 14h et à 15h15.\nTout public. Entrée à 2€ | Gratuit pour les
  moins de 7 ans I Tél. 01 46 56 62 83
ATTACH;FMTTYPE=image/jpeg:https://www.ville-chatillon.fr/app/uploads/2024/
 11/noeltillon.jpg
CATEGORIES:Atelier
LOCATION:Maison des Enfants - 34 rue Guy Moquet\, France
X-APPLE-STRUCTURED-LOCATION;VALUE=URI;X-ADDRESS=Maison des Enfants - 34 rue
  Guy Moquet\, France;X-APPLE-RADIUS=100;X-TITLE=:geo:0,0
END:VEVENT
BEGIN:VTIMEZONE
TZID:Europe/Paris
X-LIC-LOCATION:Europe/Paris
BEGIN:STANDARD
DTSTART:20241027T020000
TZOFFSETFROM:+0200
TZOFFSETTO:+0100
TZNAME:CET
END:STANDARD
END:VTIMEZONE
END:VCALENDAR