BEGIN:VCALENDAR
VERSION:2.0
PRODID:-//wp-events-plugin.com//7.1.7//EN
TZID:Europe/Paris
X-WR-TIMEZONE:Europe/Paris
BEGIN:VEVENT
UID:0-1264@ville-chatillon.fr
DTSTART;TZID=Europe/Paris:20241208T150000
DTEND;TZID=Europe/Paris:20241208T160000
DTSTAMP:20241127T102323Z
URL:https://www.ville-chatillon.fr/evenements/conte-de-noel/
SUMMARY:Conte de Noël
DESCRIPTION:Venez profiter d’un moment convivial et enchanteur en famille
 .\nDès 5 ans | Gratuit | sur inscription : au 01 40 84 97 11 ou à maison
 desarts@chatillon92.fr
ATTACH;FMTTYPE=image/jpeg:https://www.ville-chatillon.fr/app/uploads/2024/
 11/noeltillon.jpg
CATEGORIES:Lecture
LOCATION:Maison des Arts - 11 rue de Bagneux\, France
X-APPLE-STRUCTURED-LOCATION;VALUE=URI;X-ADDRESS=Maison des Arts - 11 rue de
  Bagneux\, France;X-APPLE-RADIUS=100;X-TITLE=:geo:0,0
END:VEVENT
BEGIN:VTIMEZONE
TZID:Europe/Paris
X-LIC-LOCATION:Europe/Paris
BEGIN:STANDARD
DTSTART:20241027T020000
TZOFFSETFROM:+0200
TZOFFSETTO:+0100
TZNAME:CET
END:STANDARD
END:VTIMEZONE
END:VCALENDAR