BEGIN:VCALENDAR
VERSION:2.0
PRODID:-//wp-events-plugin.com//7.1.7//EN
TZID:Europe/Paris
X-WR-TIMEZONE:Europe/Paris
BEGIN:VEVENT
UID:0-1301@ville-chatillon.fr
DTSTART;TZID=Europe/Paris:20241206T000000
DTEND;TZID=Europe/Paris:20241209T000000
DTSTAMP:20241205T134909Z
URL:https://www.ville-chatillon.fr/evenements/carre-signe-au-dos/
SUMMARY:Carré signé au dos
DESCRIPTION:Depuis 2015\, l’exposition collective Carré signé au dos c
 lôture les programmations de l'Espace Aliés Guinard.  Toujours dans un 
 esprit de fête\, l’association\, désireuse de faire (re)découvrir des
  artistes\, présente une exposition collective:\nd’œuvres de toutes te
 chniques (peinture\, gravure\, photographie\, sculpture\, dessin\, collage
  …)\n toutes de même format et au même prix de vente\,\n rendues ano
 nymes par la signature de l’artiste au dos de l’œuvre.\nOuvert aux ho
 raires d'ouverture de l'Espace Aliés Guinard.
ATTACH;FMTTYPE=image/jpeg:https://www.ville-chatillon.fr/app/uploads/2024/
 12/carre.jpg
CATEGORIES:Associations
LOCATION:Espace Aliés Guinard - 22 Boulevard de Vanves\, France
X-APPLE-STRUCTURED-LOCATION;VALUE=URI;X-ADDRESS=Espace Aliés Guinard - 22 
 Boulevard de Vanves\, France;X-APPLE-RADIUS=100;X-TITLE=:geo:0,0
END:VEVENT
BEGIN:VTIMEZONE
TZID:Europe/Paris
X-LIC-LOCATION:Europe/Paris
BEGIN:STANDARD
DTSTART:20241027T020000
TZOFFSETFROM:+0200
TZOFFSETTO:+0100
TZNAME:CET
END:STANDARD
END:VTIMEZONE
END:VCALENDAR