BEGIN:VCALENDAR
VERSION:2.0
PRODID:-//wp-events-plugin.com//7.1.7//EN
TZID:Europe/Paris
X-WR-TIMEZONE:Europe/Paris
BEGIN:VEVENT
UID:0-1184@ville-chatillon.fr
DTSTART;TZID=Europe/Paris:20241016T140000
DTEND;TZID=Europe/Paris:20241016T150000
DTSTAMP:20240926T112435Z
URL:https://www.ville-chatillon.fr/evenements/atelier-philo-6/
SUMMARY:Atelier philo
DESCRIPTION:Dans les ateliers philo il n’y a ni bonnes ni mauvaises répo
 nses. Il n’y a que des idées qui attendent d’être discutées dans le
  respect de tous.\nSur inscription.
ATTACH;FMTTYPE=image/jpeg:https://www.ville-chatillon.fr/app/uploads/2024/
 09/philo.jpg
LOCATION:France
X-APPLE-STRUCTURED-LOCATION;VALUE=URI;X-ADDRESS=France;X-APPLE-RADIUS=100;X
 -TITLE=:geo:0,0
END:VEVENT
BEGIN:VTIMEZONE
TZID:Europe/Paris
X-LIC-LOCATION:Europe/Paris
BEGIN:DAYLIGHT
DTSTART:20240331T030000
TZOFFSETFROM:+0100
TZOFFSETTO:+0200
TZNAME:CEST
END:DAYLIGHT
END:VTIMEZONE
END:VCALENDAR