BEGIN:VCALENDAR
VERSION:2.0
PRODID:-//wp-events-plugin.com//7.1.7//EN
TZID:Europe/Paris
X-WR-TIMEZONE:Europe/Paris
BEGIN:VEVENT
UID:0-1283@ville-chatillon.fr
DTSTART;TZID=Europe/Paris:20241221T150000
DTEND;TZID=Europe/Paris:20241221T170000
DTSTAMP:20241127T153639Z
URL:https://www.ville-chatillon.fr/evenements/atelier-crochet-11/
SUMMARY:Atelier crochet
DESCRIPTION:Public ados et adultes · Sur inscription
ATTACH;FMTTYPE=image/jpeg:https://www.ville-chatillon.fr/app/uploads/2024/
 11/crochet.jpg
LOCATION:Maison des Enfants - 34 rue Guy Môquet\, France
X-APPLE-STRUCTURED-LOCATION;VALUE=URI;X-ADDRESS=Maison des Enfants - 34 rue
  Guy Môquet\, France;X-APPLE-RADIUS=100;X-TITLE=:geo:0,0
END:VEVENT
BEGIN:VTIMEZONE
TZID:Europe/Paris
X-LIC-LOCATION:Europe/Paris
BEGIN:STANDARD
DTSTART:20241027T020000
TZOFFSETFROM:+0200
TZOFFSETTO:+0100
TZNAME:CET
END:STANDARD
END:VTIMEZONE
END:VCALENDAR